BEGIN:VCALENDAR
VERSION:2.0
PRODID:-//IMPRO 005 - ECPv5.16.3.1//NONSGML v1.0//EN
CALSCALE:GREGORIAN
METHOD:PUBLISH
X-WR-CALNAME:IMPRO 005
X-ORIGINAL-URL:https://impro005.de
X-WR-CALDESC:Veranstaltungen für IMPRO 005
BEGIN:VTIMEZONE
TZID:UTC
BEGIN:STANDARD
TZOFFSETFROM:+0000
TZOFFSETTO:+0000
TZNAME:UTC
DTSTART:20210101T000000
END:STANDARD
END:VTIMEZONE
BEGIN:VEVENT
DTSTART;TZID=UTC:20210929T193000
DTEND;TZID=UTC:20210929T193000
DTSTAMP:20260421T225013
CREATED:20210921T155127Z
LAST-MODIFIED:20210921T160431Z
UID:2476-1632943800-1632943800@impro005.de
SUMMARY:Gastspiel: Kulturbahnhof Hiltrup
DESCRIPTION:Impro 005 geizt nicht mit überraschenden Entwicklungen\, skurrilen Charakteren und perfektem Zusammenspiel zum Schmunzeln und Ablachen. Längst hat der Parforceritt durch alle (un)möglichen Situationen des Lebens Kultstatus erreicht. Das Kürzel &#8222;Impro 005&#8220; steht als Markenzeichen für erfrischende und temporeiche Unterhaltung auf professionellem Niveau. \n\nKartenvorverkauf hier
URL:https://impro005.de/termin/gastspiel-muenster-geschlossene-veranstaltung-2-2-2-2-2-3-4/
LOCATION:Kulturbahnhof Münster-Hiltrup\, Bergiusstraße 15\, Münster-Hiltrup\, 48165\, Deutschland
CATEGORIES:Öffentliches Gastspiel
ATTACH;FMTTYPE=image/jpeg:https://impro005.de/wp-content/uploads/2021/07/Impro-005-Pressefoto-01-Roman-Mensing-.jpg
END:VEVENT
END:VCALENDAR