BEGIN:VCALENDAR
VERSION:2.0
PRODID:-//IMPRO 005 - ECPv5.16.3.1//NONSGML v1.0//EN
CALSCALE:GREGORIAN
METHOD:PUBLISH
X-WR-CALNAME:IMPRO 005
X-ORIGINAL-URL:https://impro005.de
X-WR-CALDESC:Veranstaltungen für IMPRO 005
BEGIN:VTIMEZONE
TZID:Europe/Berlin
BEGIN:DAYLIGHT
TZOFFSETFROM:+0100
TZOFFSETTO:+0200
TZNAME:CEST
DTSTART:20170326T010000
END:DAYLIGHT
BEGIN:STANDARD
TZOFFSETFROM:+0200
TZOFFSETTO:+0100
TZNAME:CET
DTSTART:20171029T010000
END:STANDARD
END:VTIMEZONE
BEGIN:VEVENT
DTSTART;TZID=Europe/Berlin:20170422T210000
DTEND;TZID=Europe/Berlin:20170422T210000
DTSTAMP:20260421T174748
CREATED:20170222T161319Z
LAST-MODIFIED:20170222T161319Z
UID:730-1492894800-1492894800@impro005.de
SUMMARY:Gastspiel: Museumsnacht Abtei Liesborn (öffentlich)
DESCRIPTION:IMPRO 005 geizt nicht mit Tempo und schrägen Einfällen. Die Impro-Profis aus Münster bringen auf die Bühne\, was das Publikum sehen möchte. Nur 5-4-3-2-1 Sekunden und es geht los. Jede Szene ist ein Unikat – ungeprobt\, nie zuvor und niemals wieder zu sehen. \n„Teils schon zu gut\, um wahr zu sein. In jedem Fall zum Niederknien.“ (Westfälische Nachrichten) \nDies ist ein öffentliches Gastspiel. Nähere Infos\, Eintrittspreisen und Karten gibt es direkt beim Veranstalter
URL:https://impro005.de/termin/gastspiel-museumsnacht-abtei-liesborn-oeffentlich/
LOCATION:Museum Abtei Liesborn\, Abteiring 8\, Wadersloh-Liesborn\, NRW\, 59329\, Deutschland
CATEGORIES:Öffentliches Gastspiel
ATTACH;FMTTYPE=image/jpeg:https://impro005.de/wp-content/uploads/2017/02/Impro-005-5.jpg
END:VEVENT
END:VCALENDAR