BEGIN:VCALENDAR
VERSION:2.0
PRODID:-//IMPRO 005 - ECPv5.16.3.1//NONSGML v1.0//EN
CALSCALE:GREGORIAN
METHOD:PUBLISH
X-WR-CALNAME:IMPRO 005
X-ORIGINAL-URL:https://impro005.de
X-WR-CALDESC:Veranstaltungen für IMPRO 005
BEGIN:VTIMEZONE
TZID:UTC
BEGIN:STANDARD
TZOFFSETFROM:+0000
TZOFFSETTO:+0000
TZNAME:UTC
DTSTART:20210101T000000
END:STANDARD
END:VTIMEZONE
BEGIN:VEVENT
DTSTART;TZID=UTC:20211218T200000
DTEND;TZID=UTC:20211218T200000
DTSTAMP:20260421T224940
CREATED:20211014T115603Z
LAST-MODIFIED:20211014T115603Z
UID:2465-1639857600-1639857600@impro005.de
SUMMARY:IMPRO 005 - Die Weihnachtsshow
DESCRIPTION:Impro 005 &#8211; Die Weihnachtsshow\nDas Show-Highlight in der Vorweihnachtszeit\nDer Vorverkauf ist gestartet \nMit IMPRO 005 ist gut Weihnachten feiern! Auch in diesem Advent spielen wir unsere Kult-Weihnachtsshow für alle Freunde der Impro-Kunst – Corona-bedingt anders\, aber genauso festlich und ganz bestimmt voller Freude\, mit viel Leidenschaft und immer mal wieder auch besinnlich. \nWir geben alles für schöne Momente mit euch! Nach Vorschlägen unseres Publikums spielen wir spontan herzerwärmende Geschichten\, starten zu musikalischen Höhenflügen und landen butterweich in Heu und Stroh (ihr wisst schon wo…). Freut euch\, das wird ein Fest! \nEinlass ab 19.15 Uhr\, Showbeginn um 20 Uhr \nTickets: www.localticketing.de
URL:https://impro005.de/termin/impro-005-die-weihnachtsshow-11-2-2-2-2-2-2-2-2-2-2-2-2-2-2-2-2-10-7/
LOCATION:Kreativ-Haus\, Diepenbrockstraße 28\, Münster\, 48145\, Deutschland
CATEGORIES:Kreativ-Haus
ATTACH;FMTTYPE=image/jpeg:https://impro005.de/wp-content/uploads/2021/08/Impro-005-Weihnachten-quer-2021.jpg
END:VEVENT
END:VCALENDAR