BEGIN:VCALENDAR
VERSION:2.0
PRODID:-//IMPRO 005 - ECPv5.16.3.1//NONSGML v1.0//EN
CALSCALE:GREGORIAN
METHOD:PUBLISH
X-WR-CALNAME:IMPRO 005
X-ORIGINAL-URL:https://impro005.de
X-WR-CALDESC:Veranstaltungen für IMPRO 005
BEGIN:VTIMEZONE
TZID:UTC
BEGIN:STANDARD
TZOFFSETFROM:+0000
TZOFFSETTO:+0000
TZNAME:UTC
DTSTART:20240101T000000
END:STANDARD
END:VTIMEZONE
BEGIN:VEVENT
DTSTART;TZID=UTC:20241201T200000
DTEND;TZID=UTC:20241201T200000
DTSTAMP:20260421T160613
CREATED:20240729T130835Z
LAST-MODIFIED:20240904T121314Z
UID:2791-1733083200-1733083200@impro005.de
SUMMARY:IMPRO 005 - Die Weihnachtsshow
DESCRIPTION:Impro 005 &#8211; Die Weihnachtsshow\nDer Vorverkauf ist gestartet auf www.localticketing.de  \nMit IMPRO 005 ist gut Weihnachten feiern! Auch in diesem Advent spielen wir unsere Kult-Weihnachtsshow für alle Freunde der Impro-Kunst! Es wird freud- und humorvoll\, kuschelig\, zum Quietschen schön und immer mal wieder auch sehr besinnlich. Ein Muss in der Adventszeit! \nWir geben alles für glänzende Momente mit euch! Nach Vorschlägen unseres Publikums spielen wir spontan herzerwärmende Geschichten\, starten zu musikalischen Höhenflügen und landen butterweich in Heu und Stroh (ihr wisst schon wo…). Freut euch\, das wird ein Fest! \nEinlass ab 19.15 Uhr\, Showbeginn um 20 Uhr \nTickets: https://www.localticketing.de/events/33158-impro-005-die-weihnachtsshow
URL:https://impro005.de/termin/impro-005-die-weihnachtsshow-11-2-2-2-2-2-2-2-2-2-2-2-2-2-2-2-2-10-9-9-2-2-2-2-2-2/
LOCATION:Kreativ-Haus\, Diepenbrockstraße 28\, Münster\, 48145\, Deutschland
CATEGORIES:Kreativ-Haus
ATTACH;FMTTYPE=image/jpeg:https://impro005.de/wp-content/uploads/2023/10/005-xmas-final-02.jpg
END:VEVENT
END:VCALENDAR