BEGIN:VCALENDAR
VERSION:2.0
PRODID:-//IMPRO 005 - ECPv5.16.3.1//NONSGML v1.0//EN
CALSCALE:GREGORIAN
METHOD:PUBLISH
X-WR-CALNAME:IMPRO 005
X-ORIGINAL-URL:https://impro005.de
X-WR-CALDESC:Veranstaltungen für IMPRO 005
BEGIN:VTIMEZONE
TZID:UTC
BEGIN:STANDARD
TZOFFSETFROM:+0000
TZOFFSETTO:+0000
TZNAME:UTC
DTSTART:20170101T000000
END:STANDARD
END:VTIMEZONE
BEGIN:VEVENT
DTSTART;TZID=UTC:20171015T200000
DTEND;TZID=UTC:20171015T200000
DTSTAMP:20260421T210209
CREATED:20170223T103949Z
LAST-MODIFIED:20170915T151844Z
UID:772-1508097600-1508097600@impro005.de
SUMMARY:IMPRO 005 Director´s Cut
DESCRIPTION:Nicht nur für Filmfreunde: Impro in Cinemascope\nSo habt Ihr Hitchcock\, Fassbinder oder Shakespeare noch nie gesehen: Im Stile der unnachahmlichen Originale erschaffen wir unseren Director´s Cut auf der Bühne: Ein improvisiertes Theaterereignis\, ganz so\, wie es sein soll! \nSchauspieler und Publikum führen Regie in einem Film\, für den es noch kein Drehbuch gibt. Damit entsteht eine abendfüllende Geschichte „im Stile“ namhafter Dichter und Filmemacher: Szenenwechsel\, Rollentausch\, alternative Enden – alles ist möglich\, absolut einmalig und garantiert unzensiert. Dass daraus ein packender Abend wird\, ist große Kleinkunst. \n „Tosender Applaus\, Zugaben und Begeisterungswellen.“ (Neue Westfälische)
URL:https://impro005.de/termin/impro-005-directors-cut-2/
LOCATION:Kreativ-Haus\, Diepenbrockstraße 28\, Münster\, 48145\, Deutschland
CATEGORIES:Kreativ-Haus
ATTACH;FMTTYPE=image/jpeg:https://impro005.de/wp-content/uploads/2017/02/Impro-005-goes-Tarantino-web.jpg
END:VEVENT
END:VCALENDAR