BEGIN:VCALENDAR
VERSION:2.0
PRODID:-//IMPRO 005 - ECPv5.16.3.1//NONSGML v1.0//EN
CALSCALE:GREGORIAN
METHOD:PUBLISH
X-WR-CALNAME:IMPRO 005
X-ORIGINAL-URL:https://impro005.de
X-WR-CALDESC:Veranstaltungen für IMPRO 005
BEGIN:VTIMEZONE
TZID:UTC
BEGIN:STANDARD
TZOFFSETFROM:+0000
TZOFFSETTO:+0000
TZNAME:UTC
DTSTART:20170101T000000
END:STANDARD
END:VTIMEZONE
BEGIN:VEVENT
DTSTART;VALUE=DATE:20170506
DTEND;VALUE=DATE:20170507
DTSTAMP:20260426T063731
CREATED:20170223T082657Z
LAST-MODIFIED:20170223T083819Z
UID:745-1494028800-1494115199@impro005.de
SUMMARY:Gastspiel: Münster (geschlossene Veranstaltung)
DESCRIPTION:Diese Veranstaltung ist nicht öffentlich &#8211; leider! \nRegelmäßig zu sehen ist IMPRO 005 im Kreativ-Haus in Münster. Immer sonntags um 20 Uhr.
URL:https://impro005.de/termin/impro-005-gastspiel-in-muenster-geschlossene-veranstaltung/
LOCATION:Geschlossene Veranstaltung\, Deutschland
CATEGORIES:Geschlossene Veranstaltung
END:VEVENT
END:VCALENDAR