BEGIN:VCALENDAR
VERSION:2.0
PRODID:-//IMPRO 005 - ECPv5.16.3.1//NONSGML v1.0//EN
CALSCALE:GREGORIAN
METHOD:PUBLISH
X-WR-CALNAME:IMPRO 005
X-ORIGINAL-URL:https://impro005.de
X-WR-CALDESC:Veranstaltungen fÃ¼r IMPRO 005
BEGIN:VTIMEZONE
TZID:UTC
BEGIN:STANDARD
TZOFFSETFROM:+0000
TZOFFSETTO:+0000
TZNAME:UTC
DTSTART:20190101T000000
END:STANDARD
END:VTIMEZONE
BEGIN:VEVENT
DTSTART;TZID=UTC:20190120T200000
DTEND;TZID=UTC:20190120T200000
DTSTAMP:20260422T033454
CREATED:20181022T070950Z
LAST-MODIFIED:20181022T073205Z
UID:1225-1548014400-1548014400@impro005.de
SUMMARY:IMPRO 005 Special Edition
DESCRIPTION:Unsere Langform: Wir nehmen uns viel Zeit fÃ¼r das Besondere.\nWas unsere Special Edition besonders macht? Ganz einfach. An diesem Abend widmen wir uns einer Geschichte oder einigen wenigen &#8230; wer weiÃŸ das vorher schon so genau? \nFalls es je eine Beweises bedurft hÃ¤tte\, wozu Impro als Theaterform imstande ist:Â hier ist er!\nBeste Unterhaltung â€“ aber ganz bestimmt! \nKarten-Vorverkauf : \n  \n\nKreativ-Haus\, DiepenbrockstraÃŸe 28\, MÃ¼nsterÂ  (Mo-Do 10-12 /15-18 Uhr)\nMÃ¼nster Marketing // MÃ¼nster Information // Heinrich-BrÃ¼ning StraÃŸe 9 // 48143 MÃ¼nster\nSchatzinsel // NeubrÃ¼ckenstraÃŸe 72 // 48143 MÃ¼nster\nBuchhandlung Der Wunderkasten // RÃ¼schhausweg 6// 48161 MÃ¼nster\nKinderhauser Buchzentrum // Idenbrockplatz 5c // 48159 MÃ¼nster\nBuchhandlung Cramer & LÃ¶w // MarktstraÃŸe 28 // Greven\nGreven Marketing // Alte MÃ¼nsterstraÃŸe 23// 48268 Greven\n\nKarten online: \n\nwww.localticketing.deÂ (zzgl.Â 1\,17 Euro SystemgebÃ¼hr)
URL:https://impro005.de/termin/impro-005-special-edition-9-2-2/
LOCATION:Kreativ-Haus\, DiepenbrockstraÃŸe 28\, MÃ¼nster\, 48145\, Deutschland
CATEGORIES:Kreativ-Haus
ATTACH;FMTTYPE=image/jpeg:https://impro005.de/wp-content/uploads/2017/09/impro005-2017-12.jpg
END:VEVENT
END:VCALENDAR