BEGIN:VCALENDAR
VERSION:2.0
PRODID:-//IMPRO 005 - ECPv5.16.3.1//NONSGML v1.0//EN
CALSCALE:GREGORIAN
METHOD:PUBLISH
X-WR-CALNAME:IMPRO 005
X-ORIGINAL-URL:https://impro005.de
X-WR-CALDESC:Veranstaltungen fÃ¼r IMPRO 005
BEGIN:VTIMEZONE
TZID:UTC
BEGIN:STANDARD
TZOFFSETFROM:+0000
TZOFFSETTO:+0000
TZNAME:UTC
DTSTART:20190101T000000
END:STANDARD
END:VTIMEZONE
BEGIN:VEVENT
DTSTART;TZID=UTC:20190113T200000
DTEND;TZID=UTC:20190113T200000
DTSTAMP:20260422T033408
CREATED:20181022T070750Z
LAST-MODIFIED:20181022T075015Z
UID:1223-1547409600-1547409600@impro005.de
SUMMARY:IMPRO 005 Ultimative Improshow
DESCRIPTION:Unser Klassiker: rasant\, temporeich und immer wieder neu.\nDie ultimative Improshow geizt nicht mit TempoÂ und schrÃ¤gen EinfÃ¤llen.\nKeine Zeit\, Euch zu siezen. Wir legen direkt los\,Â kurz und knackig: \nIn einer Sprache Eurer Wahl.\nIn dem Genre Eurer Wahl.\nMit der eigenen oder der StimmeÂ eines anderen.\nMit wechselnden GefÃ¼hlen.\nMit Musik\,Â SongsÂ und tanzend.\nIn Reimform oder Prosa. \nUltimatives Impro Â heiÃŸt fÃ¼r uns: Wir spielen\, was Ihr wollt. Nur 5-4-3-2-1 Sekunden und es geht los. Jede Szene ist ein Unikat â€“ ungeprobt\, nie zuvor und niemals wieder zu sehen. Versprochen! \nâ€žTeils schon zu gut\, um wahr zu sein. In jedem Fall zum Niederknien.â€œ (WestfÃ¤lische Nachrichten) \nKarten-Vorverkauf : \n\nKreativ-Haus\, DiepenbrockstraÃŸe 28\, MÃ¼nsterÂ  (Mo-Do 10-12 /15-18 Uhr)\nMÃ¼nster Marketing // MÃ¼nster Information // Heinrich-BrÃ¼ning StraÃŸe 9 // 48143 MÃ¼nster\nSchatzinsel // NeubrÃ¼ckenstraÃŸe 72 // 48143 MÃ¼nster\nBuchhandlung Der Wunderkasten // RÃ¼schhausweg 6// 48161 MÃ¼nster\nKinderhauser Buchzentrum // Idenbrockplatz 5c // 48159 MÃ¼nster\nBuchhandlung Cramer & LÃ¶w // MarktstraÃŸe 28 // Greven\nGreven Marketing // Alte MÃ¼nsterstraÃŸe 23// 48268 Greven\n\n  \nKarten online: \n\nwww.localticketing.deÂ (zzgl.Â 1\,17 Euro SystemgebÃ¼hr)
URL:https://impro005.de/termin/impro-005-ultimative-improshow-13-2-3/
LOCATION:Kreativ-Haus\, DiepenbrockstraÃŸe 28\, MÃ¼nster\, 48145\, Deutschland
CATEGORIES:Kreativ-Haus
ATTACH;FMTTYPE=image/jpeg:https://impro005.de/wp-content/uploads/2017/09/impro005-2017-15.jpg
END:VEVENT
END:VCALENDAR